BEGIN:VCALENDAR
VERSION:2.0
PRODID:-//Pure Dog Talk - ECPv6.15.18//NONSGML v1.0//EN
CALSCALE:GREGORIAN
METHOD:PUBLISH
X-WR-CALNAME:Pure Dog Talk
X-ORIGINAL-URL:https://puredogtalk.com
X-WR-CALDESC:Events for Pure Dog Talk
REFRESH-INTERVAL;VALUE=DURATION:PT1H
X-Robots-Tag:noindex
X-PUBLISHED-TTL:PT1H
BEGIN:VTIMEZONE
TZID:America/Los_Angeles
BEGIN:DAYLIGHT
TZOFFSETFROM:-0800
TZOFFSETTO:-0700
TZNAME:PDT
DTSTART:20220313T100000
END:DAYLIGHT
BEGIN:STANDARD
TZOFFSETFROM:-0700
TZOFFSETTO:-0800
TZNAME:PST
DTSTART:20221106T090000
END:STANDARD
BEGIN:DAYLIGHT
TZOFFSETFROM:-0800
TZOFFSETTO:-0700
TZNAME:PDT
DTSTART:20230312T100000
END:DAYLIGHT
BEGIN:STANDARD
TZOFFSETFROM:-0700
TZOFFSETTO:-0800
TZNAME:PST
DTSTART:20231105T090000
END:STANDARD
BEGIN:DAYLIGHT
TZOFFSETFROM:-0800
TZOFFSETTO:-0700
TZNAME:PDT
DTSTART:20240310T100000
END:DAYLIGHT
BEGIN:STANDARD
TZOFFSETFROM:-0700
TZOFFSETTO:-0800
TZNAME:PST
DTSTART:20241103T090000
END:STANDARD
END:VTIMEZONE
BEGIN:VEVENT
DTSTART;TZID=America/Los_Angeles:20231003T170000
DTEND;TZID=America/Los_Angeles:20231003T190000
DTSTAMP:20260420T063718
CREATED:20230929T222740Z
LAST-MODIFIED:20231104T184808Z
UID:12471-1696352400-1696359600@puredogtalk.com
SUMMARY:October LIVE@5! Should Pro Handlers be Allowed in Puppy 4-6 mo?
DESCRIPTION:Let’s get ready to rumble! \nPuppy 4-6 months is a special class offered at AKC conformation events\, but the rules dictate that professional handlers are NOT allowed in that class. How does that make you feel? Come chat with Laura and some special guests on Tuesday\, October 3rd\, Live at 5 PST!
URL:https://puredogtalk.com/event/october-live5-should-pro-handlers-be-allowed-in-puppy-4-6-mo/
LOCATION:Facebook LIVE
CATEGORIES:Facebook LIVE
ATTACH;FMTTYPE=image/jpeg:https://puredogtalk.com/wp-content/uploads/2023/09/October-LIVE-at-5-Should-Pro-Handlers-be-Allowed-in-Puppy-4-6-mo.jpg
ORGANIZER;CN="Pure Dog Talk":MAILTO:laura@puredogtalk.com
END:VEVENT
END:VCALENDAR