BEGIN:VCALENDAR
VERSION:2.0
PRODID:-//Pure Dog Talk - ECPv6.15.18//NONSGML v1.0//EN
CALSCALE:GREGORIAN
METHOD:PUBLISH
X-ORIGINAL-URL:https://puredogtalk.com
X-WR-CALDESC:Events for Pure Dog Talk
REFRESH-INTERVAL;VALUE=DURATION:PT1H
X-Robots-Tag:noindex
X-PUBLISHED-TTL:PT1H
BEGIN:VTIMEZONE
TZID:America/Los_Angeles
BEGIN:DAYLIGHT
TZOFFSETFROM:-0800
TZOFFSETTO:-0700
TZNAME:PDT
DTSTART:20230312T100000
END:DAYLIGHT
BEGIN:STANDARD
TZOFFSETFROM:-0700
TZOFFSETTO:-0800
TZNAME:PST
DTSTART:20231105T090000
END:STANDARD
BEGIN:DAYLIGHT
TZOFFSETFROM:-0800
TZOFFSETTO:-0700
TZNAME:PDT
DTSTART:20240310T100000
END:DAYLIGHT
BEGIN:STANDARD
TZOFFSETFROM:-0700
TZOFFSETTO:-0800
TZNAME:PST
DTSTART:20241103T090000
END:STANDARD
BEGIN:DAYLIGHT
TZOFFSETFROM:-0800
TZOFFSETTO:-0700
TZNAME:PDT
DTSTART:20250309T100000
END:DAYLIGHT
BEGIN:STANDARD
TZOFFSETFROM:-0700
TZOFFSETTO:-0800
TZNAME:PST
DTSTART:20251102T090000
END:STANDARD
END:VTIMEZONE
BEGIN:VEVENT
DTSTART;TZID=America/Los_Angeles:20240206T170000
DTEND;TZID=America/Los_Angeles:20240206T190000
DTSTAMP:20260419T212730
CREATED:20240124T021127Z
LAST-MODIFIED:20240124T021341Z
UID:12724-1707238800-1707246000@puredogtalk.com
SUMMARY:February LIVE@5! Ask The Experts: How To Choose Pet Insurance
DESCRIPTION:What do you consider when choosing pet insurance? Ask these questions: \nWhat are the waiting periods?\nWhat is covered and what are the exclusions?\nAre there breed or hereditary restrictions?\nWhat are pre-existing conditions?\nWhat is the deductible?\nWhat is the payout percentage?\nDoes the company have “birthday pricing”? \nOur experts will answer all these questions and more.
URL:https://puredogtalk.com/event/february-liveat5/
LOCATION:Facebook LIVE
CATEGORIES:Facebook LIVE
ATTACH;FMTTYPE=image/png:https://puredogtalk.com/wp-content/uploads/2024/01/Feb-Live-at5.png
ORGANIZER;CN="Pure Dog Talk":MAILTO:laura@puredogtalk.com
END:VEVENT
END:VCALENDAR