BEGIN:VCALENDAR
VERSION:2.0
PRODID:-//Pure Dog Talk - ECPv6.15.18//NONSGML v1.0//EN
CALSCALE:GREGORIAN
METHOD:PUBLISH
X-ORIGINAL-URL:https://puredogtalk.com
X-WR-CALDESC:Events for Pure Dog Talk
REFRESH-INTERVAL;VALUE=DURATION:PT1H
X-Robots-Tag:noindex
X-PUBLISHED-TTL:PT1H
BEGIN:VTIMEZONE
TZID:America/Los_Angeles
BEGIN:DAYLIGHT
TZOFFSETFROM:-0800
TZOFFSETTO:-0700
TZNAME:PDT
DTSTART:20240310T100000
END:DAYLIGHT
BEGIN:STANDARD
TZOFFSETFROM:-0700
TZOFFSETTO:-0800
TZNAME:PST
DTSTART:20241103T090000
END:STANDARD
BEGIN:DAYLIGHT
TZOFFSETFROM:-0800
TZOFFSETTO:-0700
TZNAME:PDT
DTSTART:20250309T100000
END:DAYLIGHT
BEGIN:STANDARD
TZOFFSETFROM:-0700
TZOFFSETTO:-0800
TZNAME:PST
DTSTART:20251102T090000
END:STANDARD
BEGIN:DAYLIGHT
TZOFFSETFROM:-0800
TZOFFSETTO:-0700
TZNAME:PDT
DTSTART:20260308T100000
END:DAYLIGHT
BEGIN:STANDARD
TZOFFSETFROM:-0700
TZOFFSETTO:-0800
TZNAME:PST
DTSTART:20261101T090000
END:STANDARD
END:VTIMEZONE
BEGIN:VEVENT
DTSTART;VALUE=DATE:20250905
DTEND;VALUE=DATE:20250908
DTSTAMP:20260419T065137
CREATED:20250605T003649Z
LAST-MODIFIED:20250611T012459Z
UID:14124-1757030400-1757289599@puredogtalk.com
SUMMARY:Join Us! 2025 Island Time Seminar – “Pedigrees to Pups”
DESCRIPTION:Join Dr. Marty Greer and Laura Reeves for an in-depth conversation on the essentials of dog breeding. We’re bringing together the ART and the SCIENCE of dog breeding in ONE place! \nBreeders! Aspiring\, new\, experienced and accomplished will all come away with new information\, ideas and protocols. Join Dr. Marty Greer and Laura Reeves as they take you from acquiring your foundation bitch through sending your new puppies home. \nBONUS: Laura will offer a handling course as well! Learn tips\, tricks and foundations from a successful professional. \nLearn More: https://puredogtalk.com/2025-hawaii-seminar/
URL:https://puredogtalk.com/event/2025-hawaii-seminar/
LOCATION:Blanche Pope Elementary School\, 41-133 Huli Street\, Waimānalo\, HI\, 96795\, United States
CATEGORIES:PDT Breeder Workshop
ATTACH;FMTTYPE=image/jpeg:https://puredogtalk.com/wp-content/uploads/2025/06/2025-Island-Time-Seminar.jpg
ORGANIZER;CN="Pure Dog Talk":MAILTO:laura@puredogtalk.com
END:VEVENT
BEGIN:VEVENT
DTSTART;VALUE=DATE:20250912
DTEND;VALUE=DATE:20250915
DTSTAMP:20260419T065137
CREATED:20250605T004438Z
LAST-MODIFIED:20250622T215232Z
UID:14129-1757635200-1757894399@puredogtalk.com
SUMMARY:Join Us! 2025 Dairyland Classic Seminar – “Pedigrees to Pups”
DESCRIPTION:Join Dr. Marty Greer and Laura Reeves for an in-depth conversation on the essentials of dog breeding. We’re bringing together the ART and the SCIENCE of dog breeding in ONE place! \nBreeders! Aspiring\, new\, experienced and accomplished will all come away with new information\, ideas and protocols. Join Dr. Marty Greer and Laura Reeves as they take you from acquiring your foundation bitch through sending your new puppies home. \nBONUS: Dr. Greer will offer guided in-clinic practical observations as procedures allow. \n\nLearn More: https://puredogtalk.com/2025-wisconsin-breeding-seminar/
URL:https://puredogtalk.com/event/2025-dairyland-classic-seminar/
LOCATION:Veterinary Village\, N11591 Columbia Drive\, Lomira\, WI\, 53048\, United States
CATEGORIES:PDT Breeder Workshop
ATTACH;FMTTYPE=image/jpeg:https://puredogtalk.com/wp-content/uploads/2025/06/Dairyland-Classic-Seminar.jpg
ORGANIZER;CN="Pure Dog Talk":MAILTO:laura@puredogtalk.com
END:VEVENT
BEGIN:VEVENT
DTSTART;VALUE=DATE:20250927
DTEND;VALUE=DATE:20250929
DTSTAMP:20260419T065137
CREATED:20250819T185420Z
LAST-MODIFIED:20250924T225045Z
UID:14327-1758931200-1759103999@puredogtalk.com
SUMMARY:Join Us! 2025 DKC Seminar!
DESCRIPTION:Join Laura Reeves and Friends at the Durham Kennel Club for an unforgettable hands-on weekend designed to ELEVATE YOUR GAME! \nWe’ll dive into the structure and anatomy of dogs\, helping you identify major structural landmarks—and then challenge yourself to do it blindfolded. \nThis workshop isn’t just about mastering technique; it’s about developing the showmanship that separates the technically proficient from the truly outstanding. It’s mindset\, muscle memory\, and presence all rolled into one. \n\nSaturday:9:00 AM – 12:00 PM: Structure & Anatomy (Hands-On);12:00 PM – 2:00 PM: Lunch (on your own);2:00 PM – 5:00 PM: Polished Performance;6:00 PM – 8:00 PM: After Dark: Building Community. \nSunday:9:00 AM – 12:00 PM: Individual Dog Critiques;12:00 PM – 1:00 PM: Lunch (on your own);1:00 PM – 3:00 PM: Dog Saw Dog Show. \n\nLearn More: https://puredogtalk.com/2025-dkc-seminar/
URL:https://puredogtalk.com/event/2025-dkc-seminar/
LOCATION:Durham Kennel Club\, 7318 Guess Rd\, Durham\, NC\, 27712\, United States
CATEGORIES:PDT Breeder Workshop
ATTACH;FMTTYPE=image/png:https://puredogtalk.com/wp-content/uploads/2025/08/DKC-Seminar.png
ORGANIZER;CN="Pure Dog Talk":MAILTO:laura@puredogtalk.com
END:VEVENT
END:VCALENDAR