BEGIN:VCALENDAR
VERSION:2.0
PRODID:-//Pure Dog Talk - ECPv6.15.18//NONSGML v1.0//EN
CALSCALE:GREGORIAN
METHOD:PUBLISH
X-ORIGINAL-URL:https://puredogtalk.com
X-WR-CALDESC:Events for Pure Dog Talk
REFRESH-INTERVAL;VALUE=DURATION:PT1H
X-Robots-Tag:noindex
X-PUBLISHED-TTL:PT1H
BEGIN:VTIMEZONE
TZID:America/Los_Angeles
BEGIN:DAYLIGHT
TZOFFSETFROM:-0800
TZOFFSETTO:-0700
TZNAME:PDT
DTSTART:20240310T100000
END:DAYLIGHT
BEGIN:STANDARD
TZOFFSETFROM:-0700
TZOFFSETTO:-0800
TZNAME:PST
DTSTART:20241103T090000
END:STANDARD
BEGIN:DAYLIGHT
TZOFFSETFROM:-0800
TZOFFSETTO:-0700
TZNAME:PDT
DTSTART:20250309T100000
END:DAYLIGHT
BEGIN:STANDARD
TZOFFSETFROM:-0700
TZOFFSETTO:-0800
TZNAME:PST
DTSTART:20251102T090000
END:STANDARD
BEGIN:DAYLIGHT
TZOFFSETFROM:-0800
TZOFFSETTO:-0700
TZNAME:PDT
DTSTART:20260308T100000
END:DAYLIGHT
BEGIN:STANDARD
TZOFFSETFROM:-0700
TZOFFSETTO:-0800
TZNAME:PST
DTSTART:20261101T090000
END:STANDARD
END:VTIMEZONE
BEGIN:VEVENT
DTSTART;VALUE=DATE:20250927
DTEND;VALUE=DATE:20250929
DTSTAMP:20260419T101959
CREATED:20250819T185420Z
LAST-MODIFIED:20250924T225045Z
UID:14327-1758931200-1759103999@puredogtalk.com
SUMMARY:Join Us! 2025 DKC Seminar!
DESCRIPTION:Join Laura Reeves and Friends at the Durham Kennel Club for an unforgettable hands-on weekend designed to ELEVATE YOUR GAME! \nWe’ll dive into the structure and anatomy of dogs\, helping you identify major structural landmarks—and then challenge yourself to do it blindfolded. \nThis workshop isn’t just about mastering technique; it’s about developing the showmanship that separates the technically proficient from the truly outstanding. It’s mindset\, muscle memory\, and presence all rolled into one. \n\nSaturday:9:00 AM – 12:00 PM: Structure & Anatomy (Hands-On);12:00 PM – 2:00 PM: Lunch (on your own);2:00 PM – 5:00 PM: Polished Performance;6:00 PM – 8:00 PM: After Dark: Building Community. \nSunday:9:00 AM – 12:00 PM: Individual Dog Critiques;12:00 PM – 1:00 PM: Lunch (on your own);1:00 PM – 3:00 PM: Dog Saw Dog Show. \n\nLearn More: https://puredogtalk.com/2025-dkc-seminar/
URL:https://puredogtalk.com/event/2025-dkc-seminar/
LOCATION:Durham Kennel Club\, 7318 Guess Rd\, Durham\, NC\, 27712\, United States
CATEGORIES:PDT Breeder Workshop
ATTACH;FMTTYPE=image/png:https://puredogtalk.com/wp-content/uploads/2025/08/DKC-Seminar.png
ORGANIZER;CN="Pure Dog Talk":MAILTO:laura@puredogtalk.com
END:VEVENT
END:VCALENDAR