BEGIN:VCALENDAR
VERSION:2.0
PRODID:-//Pure Dog Talk - ECPv6.15.18//NONSGML v1.0//EN
CALSCALE:GREGORIAN
METHOD:PUBLISH
X-ORIGINAL-URL:https://puredogtalk.com
X-WR-CALDESC:Events for Pure Dog Talk
REFRESH-INTERVAL;VALUE=DURATION:PT1H
X-Robots-Tag:noindex
X-PUBLISHED-TTL:PT1H
BEGIN:VTIMEZONE
TZID:America/Los_Angeles
BEGIN:DAYLIGHT
TZOFFSETFROM:-0800
TZOFFSETTO:-0700
TZNAME:PDT
DTSTART:20220313T100000
END:DAYLIGHT
BEGIN:STANDARD
TZOFFSETFROM:-0700
TZOFFSETTO:-0800
TZNAME:PST
DTSTART:20221106T090000
END:STANDARD
BEGIN:DAYLIGHT
TZOFFSETFROM:-0800
TZOFFSETTO:-0700
TZNAME:PDT
DTSTART:20230312T100000
END:DAYLIGHT
BEGIN:STANDARD
TZOFFSETFROM:-0700
TZOFFSETTO:-0800
TZNAME:PST
DTSTART:20231105T090000
END:STANDARD
BEGIN:DAYLIGHT
TZOFFSETFROM:-0800
TZOFFSETTO:-0700
TZNAME:PDT
DTSTART:20240310T100000
END:DAYLIGHT
BEGIN:STANDARD
TZOFFSETFROM:-0700
TZOFFSETTO:-0800
TZNAME:PST
DTSTART:20241103T090000
END:STANDARD
END:VTIMEZONE
BEGIN:VEVENT
DTSTART;TZID=America/Los_Angeles:20230905T170000
DTEND;TZID=America/Los_Angeles:20230905T190000
DTSTAMP:20260420T051454
CREATED:20230916T155310Z
LAST-MODIFIED:20230916T203000Z
UID:12437-1693933200-1693940400@puredogtalk.com
SUMMARY:September LIVE@5! 600 Episode Celebration with Mary Albee!
DESCRIPTION:LIVE@5 tonight! Special guest Mary Albee\, co-founder of Pure Dog Talk\, with all the inside scoop on how and why we created the pod\, behind-the-scenes laughs\, and some chewing on how and where the show goes from here. \nWhile we offer up the behind-the-scenes on how Pure Dog Talk came to *nearly 600 episodes*\, drop your questions in the chat! AND share YOUR favorite episode and how it’s impacted your time in dogs. If our producer likes your story enough\, you might even get invited up to join Mary and Laura on camera!!
URL:https://puredogtalk.com/event/september-live5-600-episode-celebration-with-mary-albee/
LOCATION:Facebook LIVE
CATEGORIES:Facebook LIVE
ATTACH;FMTTYPE=image/jpeg:https://puredogtalk.com/wp-content/uploads/2023/09/July-LIVE-at-5-600-Episode-Celebration-with-Mary-Albee.jpg
ORGANIZER;CN="Pure Dog Talk":MAILTO:laura@puredogtalk.com
END:VEVENT
BEGIN:VEVENT
DTSTART;TZID=America/Los_Angeles:20230906T170000
DTEND;TZID=America/Los_Angeles:20230906T190000
DTSTAMP:20260420T051454
CREATED:20230916T160157Z
LAST-MODIFIED:20230916T160157Z
UID:12440-1694019600-1694026800@puredogtalk.com
SUMMARY:Handing Over the Torch to New Breeders with Laura Reeves
DESCRIPTION:Show Dog Prep School Founder and Lead Instructor Vicki Ronchette talks to friend\, longtime breeder\, AKC judge\, and former professional handler Laura Reeves of the immensely popular Pure Dog Talk podcast about nurturing new breeders and handing them the torch to continue breeding quality dogs. \nPlease note that this is a free event held here on our Facebook page live. Please do NOT click any outside links.
URL:https://puredogtalk.com/event/handing-over-the-torch-to-new-breeders/
LOCATION:Facebook LIVE
CATEGORIES:Facebook LIVE
ATTACH;FMTTYPE=image/jpeg:https://puredogtalk.com/wp-content/uploads/2023/09/Handing-Over-the-Torch-to-New-Breeders-with-Laura-Reeves.jpg
ORGANIZER;CN="Pure Dog Talk":MAILTO:laura@puredogtalk.com
END:VEVENT
END:VCALENDAR