BEGIN:VCALENDAR
VERSION:2.0
PRODID:-//Pure Dog Talk - ECPv6.15.18//NONSGML v1.0//EN
CALSCALE:GREGORIAN
METHOD:PUBLISH
X-WR-CALNAME:Pure Dog Talk
X-ORIGINAL-URL:https://puredogtalk.com
X-WR-CALDESC:Events for Pure Dog Talk
REFRESH-INTERVAL;VALUE=DURATION:PT1H
X-Robots-Tag:noindex
X-PUBLISHED-TTL:PT1H
BEGIN:VTIMEZONE
TZID:America/Los_Angeles
BEGIN:DAYLIGHT
TZOFFSETFROM:-0800
TZOFFSETTO:-0700
TZNAME:PDT
DTSTART:20220313T100000
END:DAYLIGHT
BEGIN:STANDARD
TZOFFSETFROM:-0700
TZOFFSETTO:-0800
TZNAME:PST
DTSTART:20221106T090000
END:STANDARD
BEGIN:DAYLIGHT
TZOFFSETFROM:-0800
TZOFFSETTO:-0700
TZNAME:PDT
DTSTART:20230312T100000
END:DAYLIGHT
BEGIN:STANDARD
TZOFFSETFROM:-0700
TZOFFSETTO:-0800
TZNAME:PST
DTSTART:20231105T090000
END:STANDARD
BEGIN:DAYLIGHT
TZOFFSETFROM:-0800
TZOFFSETTO:-0700
TZNAME:PDT
DTSTART:20240310T100000
END:DAYLIGHT
BEGIN:STANDARD
TZOFFSETFROM:-0700
TZOFFSETTO:-0800
TZNAME:PST
DTSTART:20241103T090000
END:STANDARD
END:VTIMEZONE
BEGIN:VEVENT
DTSTART;TZID=America/Los_Angeles:20231107T170000
DTEND;TZID=America/Los_Angeles:20231107T190000
DTSTAMP:20260420T021506
CREATED:20231106T004628Z
LAST-MODIFIED:20231106T004628Z
UID:12538-1699376400-1699383600@puredogtalk.com
SUMMARY:November LIVE@5! Technology Has Gone To The Dogs!
DESCRIPTION:DOGG!T is cutting-edge technology that matches human attributes and lifestyle with the right dog breed\, connects users with responsible and verified preservation breeders\, and offers a multitude of training and support options to nurture a furrever happy companionship. Join the convo to meet the founders\, ask questions\, and learn more! \n 
URL:https://puredogtalk.com/event/november-live5-technology-has-gone-to-the-dogs/
LOCATION:Facebook LIVE
CATEGORIES:Facebook LIVE
ATTACH;FMTTYPE=image/png:https://puredogtalk.com/wp-content/uploads/2023/11/Live-at-5-November-Pure-Dog-Talk.png
ORGANIZER;CN="Pure Dog Talk":MAILTO:laura@puredogtalk.com
END:VEVENT
END:VCALENDAR