BEGIN:VCALENDAR
VERSION:2.0
PRODID:-//Pure Dog Talk - ECPv6.15.18//NONSGML v1.0//EN
CALSCALE:GREGORIAN
METHOD:PUBLISH
X-WR-CALNAME:Pure Dog Talk
X-ORIGINAL-URL:https://puredogtalk.com
X-WR-CALDESC:Events for Pure Dog Talk
REFRESH-INTERVAL;VALUE=DURATION:PT1H
X-Robots-Tag:noindex
X-PUBLISHED-TTL:PT1H
BEGIN:VTIMEZONE
TZID:America/Los_Angeles
BEGIN:DAYLIGHT
TZOFFSETFROM:-0800
TZOFFSETTO:-0700
TZNAME:PDT
DTSTART:20230312T100000
END:DAYLIGHT
BEGIN:STANDARD
TZOFFSETFROM:-0700
TZOFFSETTO:-0800
TZNAME:PST
DTSTART:20231105T090000
END:STANDARD
BEGIN:DAYLIGHT
TZOFFSETFROM:-0800
TZOFFSETTO:-0700
TZNAME:PDT
DTSTART:20240310T100000
END:DAYLIGHT
BEGIN:STANDARD
TZOFFSETFROM:-0700
TZOFFSETTO:-0800
TZNAME:PST
DTSTART:20241103T090000
END:STANDARD
BEGIN:DAYLIGHT
TZOFFSETFROM:-0800
TZOFFSETTO:-0700
TZNAME:PDT
DTSTART:20250309T100000
END:DAYLIGHT
BEGIN:STANDARD
TZOFFSETFROM:-0700
TZOFFSETTO:-0800
TZNAME:PST
DTSTART:20251102T090000
END:STANDARD
END:VTIMEZONE
BEGIN:VEVENT
DTSTART;TZID=America/Los_Angeles:20240328T170000
DTEND;TZID=America/Los_Angeles:20240328T180000
DTSTAMP:20260419T163608
CREATED:20240126T025233Z
LAST-MODIFIED:20240126T030755Z
UID:12728-1711645200-1711648800@puredogtalk.com
SUMMARY:Live Webinar: Steak on the Plate – Why Structure Matters with Laura Reeves
DESCRIPTION:Understanding structure and why it matters is probably one of the most challenging and difficult things to understand when it comes to evaluating dogs. Terms like\, “layback”\, “balance”\, “type”\, “angulation” and many more are thrown around often and frequently misunderstood. Beyond the anatomy of the dog\, breeders and dog show enthusiasts as well as judges and exhibitors must understand WHY the dog is constructed the way it is and why this construction is necessary for the dog to fulfill the job he is intended to do. \nAKC judge\, past professional handler\, and second-generation breeder Laura Reeves of the wildly popular Pure Dog Talk podcast will help you understand not only the what\, but the whys of proper structure so that form can indeed follow function. This is a webinar you don’t want to miss! \n\n\nRegister at www.showdogprepschool.com/workshops
URL:https://puredogtalk.com/event/steak-on-the-plate-why-structure-matters-with-laura-reeves/
LOCATION:Live Webinars
CATEGORIES:Live Webinars
ATTACH;FMTTYPE=image/jpeg:https://puredogtalk.com/wp-content/uploads/2024/01/Steak-on-the-Plate-–-Why-Structure-Matters-with-Laura-Reeves.jpg
END:VEVENT
END:VCALENDAR