BEGIN:VCALENDAR
VERSION:2.0
PRODID:-//Pure Dog Talk - ECPv6.15.18//NONSGML v1.0//EN
CALSCALE:GREGORIAN
METHOD:PUBLISH
X-ORIGINAL-URL:https://puredogtalk.com
X-WR-CALDESC:Events for Pure Dog Talk
REFRESH-INTERVAL;VALUE=DURATION:PT1H
X-Robots-Tag:noindex
X-PUBLISHED-TTL:PT1H
BEGIN:VTIMEZONE
TZID:America/Los_Angeles
BEGIN:DAYLIGHT
TZOFFSETFROM:-0800
TZOFFSETTO:-0700
TZNAME:PDT
DTSTART:20230312T100000
END:DAYLIGHT
BEGIN:STANDARD
TZOFFSETFROM:-0700
TZOFFSETTO:-0800
TZNAME:PST
DTSTART:20231105T090000
END:STANDARD
BEGIN:DAYLIGHT
TZOFFSETFROM:-0800
TZOFFSETTO:-0700
TZNAME:PDT
DTSTART:20240310T100000
END:DAYLIGHT
BEGIN:STANDARD
TZOFFSETFROM:-0700
TZOFFSETTO:-0800
TZNAME:PST
DTSTART:20241103T090000
END:STANDARD
BEGIN:DAYLIGHT
TZOFFSETFROM:-0800
TZOFFSETTO:-0700
TZNAME:PDT
DTSTART:20250309T100000
END:DAYLIGHT
BEGIN:STANDARD
TZOFFSETFROM:-0700
TZOFFSETTO:-0800
TZNAME:PST
DTSTART:20251102T090000
END:STANDARD
END:VTIMEZONE
BEGIN:VEVENT
DTSTART;TZID=America/Los_Angeles:20240702T170000
DTEND;TZID=America/Los_Angeles:20240702T190000
DTSTAMP:20260419T071137
CREATED:20240701T131445Z
LAST-MODIFIED:20240701T132530Z
UID:12971-1719939600-1719946800@puredogtalk.com
SUMMARY:July LIVE@5! Be Like Kaz!
DESCRIPTION:The sudden and tragic passing of famed handler and Poodle breeder Kaz Hosaka\, on the heels of his triumphant win at Westminster Kennel Club\, has led to a surge in “Be Like Kaz” commentary. Let’s break down what that means IRL \nThe most all-encompassing quote I found is from Jeff Hanlin\, “Being in the presence of Kaz Hosaka is like taking a master class in perseverance\, patience\, kindness\, humor\, devotion\, intuition\, trust\, sportsmanship\, respect\, friendship\, and humility.” \nHow do we model these virtues? How do we use them to turn back the “mean” spirit that sometimes pops up in competition? How can we incorporate these values into battling the epidemic of the “grims” that has been sweeping through our community? \nJoin host Laura Reeves for insights\, ideas\, commentary\, and Q&A … Meanwhile\, “Be Like Kaz!”
URL:https://puredogtalk.com/event/july-live5/
LOCATION:Facebook LIVE
CATEGORIES:Facebook LIVE
ATTACH;FMTTYPE=image/jpeg:https://puredogtalk.com/wp-content/uploads/2024/07/PDT-Be-Like-Kaz.jpg
ORGANIZER;CN="Pure Dog Talk":MAILTO:laura@puredogtalk.com
END:VEVENT
END:VCALENDAR